BEGIN:VCALENDAR
VERSION:2.0
PRODID:-//Borough of Selinsgrove Pa - ECPv6.15.20//NONSGML v1.0//EN
CALSCALE:GREGORIAN
METHOD:PUBLISH
X-WR-CALNAME:Borough of Selinsgrove Pa
X-ORIGINAL-URL:https://selinsgrove.org
X-WR-CALDESC:Events for Borough of Selinsgrove Pa
REFRESH-INTERVAL;VALUE=DURATION:PT1H
X-Robots-Tag:noindex
X-PUBLISHED-TTL:PT1H
BEGIN:VTIMEZONE
TZID:America/New_York
BEGIN:DAYLIGHT
TZOFFSETFROM:-0500
TZOFFSETTO:-0400
TZNAME:EDT
DTSTART:20250309T070000
END:DAYLIGHT
BEGIN:STANDARD
TZOFFSETFROM:-0400
TZOFFSETTO:-0500
TZNAME:EST
DTSTART:20251102T060000
END:STANDARD
BEGIN:DAYLIGHT
TZOFFSETFROM:-0500
TZOFFSETTO:-0400
TZNAME:EDT
DTSTART:20260308T070000
END:DAYLIGHT
BEGIN:STANDARD
TZOFFSETFROM:-0400
TZOFFSETTO:-0500
TZNAME:EST
DTSTART:20261101T060000
END:STANDARD
BEGIN:DAYLIGHT
TZOFFSETFROM:-0500
TZOFFSETTO:-0400
TZNAME:EDT
DTSTART:20270314T070000
END:DAYLIGHT
BEGIN:STANDARD
TZOFFSETFROM:-0400
TZOFFSETTO:-0500
TZNAME:EST
DTSTART:20271107T060000
END:STANDARD
END:VTIMEZONE
BEGIN:VEVENT
DTSTART;TZID=America/New_York:20260502T080000
DTEND;TZID=America/New_York:20260502T120000
DTSTAMP:20260423T192603
CREATED:20260119T211733Z
LAST-MODIFIED:20260119T211808Z
UID:10001072-1777708800-1777723200@selinsgrove.org
SUMMARY:Recycling & Compost Open: 8:00AM - Noon
DESCRIPTION:
URL:https://selinsgrove.org/events/recycling-800am-noon/2026-05-02/
LOCATION:Recycling\, 219  W. Sassafras Street\, Selinsgrove
CATEGORIES:Services
END:VEVENT
BEGIN:VEVENT
DTSTART;TZID=America/New_York:20260516T080000
DTEND;TZID=America/New_York:20260516T120000
DTSTAMP:20260423T192603
CREATED:20260119T211733Z
LAST-MODIFIED:20260119T211808Z
UID:10001073-1778918400-1778932800@selinsgrove.org
SUMMARY:Recycling & Compost Open: 8:00AM - Noon
DESCRIPTION:
URL:https://selinsgrove.org/events/recycling-800am-noon/2026-05-16/
LOCATION:Recycling\, 219  W. Sassafras Street\, Selinsgrove
CATEGORIES:Services
END:VEVENT
BEGIN:VEVENT
DTSTART;TZID=America/New_York:20260606T080000
DTEND;TZID=America/New_York:20260606T120000
DTSTAMP:20260423T192603
CREATED:20260119T211733Z
LAST-MODIFIED:20260119T211808Z
UID:10001074-1780732800-1780747200@selinsgrove.org
SUMMARY:Recycling & Compost Open: 8:00AM - Noon
DESCRIPTION:
URL:https://selinsgrove.org/events/recycling-800am-noon/2026-06-06/
LOCATION:Recycling\, 219  W. Sassafras Street\, Selinsgrove
CATEGORIES:Services
END:VEVENT
BEGIN:VEVENT
DTSTART;TZID=America/New_York:20260620T080000
DTEND;TZID=America/New_York:20260620T120000
DTSTAMP:20260423T192603
CREATED:20260119T211733Z
LAST-MODIFIED:20260119T211808Z
UID:10001075-1781942400-1781956800@selinsgrove.org
SUMMARY:Recycling & Compost Open: 8:00AM - Noon
DESCRIPTION:
URL:https://selinsgrove.org/events/recycling-800am-noon/2026-06-20/
LOCATION:Recycling\, 219  W. Sassafras Street\, Selinsgrove
CATEGORIES:Services
END:VEVENT
BEGIN:VEVENT
DTSTART;TZID=America/New_York:20260718T080000
DTEND;TZID=America/New_York:20260718T120000
DTSTAMP:20260423T192603
CREATED:20260119T211733Z
LAST-MODIFIED:20260119T211808Z
UID:10001076-1784361600-1784376000@selinsgrove.org
SUMMARY:Recycling & Compost Open: 8:00AM - Noon
DESCRIPTION:
URL:https://selinsgrove.org/events/recycling-800am-noon/2026-07-18/
LOCATION:Recycling\, 219  W. Sassafras Street\, Selinsgrove
CATEGORIES:Services
END:VEVENT
BEGIN:VEVENT
DTSTART;TZID=America/New_York:20260801T080000
DTEND;TZID=America/New_York:20260801T120000
DTSTAMP:20260423T192603
CREATED:20260119T211733Z
LAST-MODIFIED:20260119T211808Z
UID:10001077-1785571200-1785585600@selinsgrove.org
SUMMARY:Recycling & Compost Open: 8:00AM - Noon
DESCRIPTION:
URL:https://selinsgrove.org/events/recycling-800am-noon/2026-08-01/
LOCATION:Recycling\, 219  W. Sassafras Street\, Selinsgrove
CATEGORIES:Services
END:VEVENT
BEGIN:VEVENT
DTSTART;TZID=America/New_York:20260815T080000
DTEND;TZID=America/New_York:20260815T120000
DTSTAMP:20260423T192603
CREATED:20260119T211733Z
LAST-MODIFIED:20260119T211808Z
UID:10001078-1786780800-1786795200@selinsgrove.org
SUMMARY:Recycling & Compost Open: 8:00AM - Noon
DESCRIPTION:
URL:https://selinsgrove.org/events/recycling-800am-noon/2026-08-15/
LOCATION:Recycling\, 219  W. Sassafras Street\, Selinsgrove
CATEGORIES:Services
END:VEVENT
BEGIN:VEVENT
DTSTART;TZID=America/New_York:20260919T080000
DTEND;TZID=America/New_York:20260919T120000
DTSTAMP:20260423T192603
CREATED:20260119T211733Z
LAST-MODIFIED:20260119T211808Z
UID:10001079-1789804800-1789819200@selinsgrove.org
SUMMARY:Recycling & Compost Open: 8:00AM - Noon
DESCRIPTION:
URL:https://selinsgrove.org/events/recycling-800am-noon/2026-09-19/
LOCATION:Recycling\, 219  W. Sassafras Street\, Selinsgrove
CATEGORIES:Services
END:VEVENT
BEGIN:VEVENT
DTSTART;TZID=America/New_York:20261003T080000
DTEND;TZID=America/New_York:20261003T120000
DTSTAMP:20260423T192603
CREATED:20260119T211733Z
LAST-MODIFIED:20260119T211808Z
UID:10001080-1791014400-1791028800@selinsgrove.org
SUMMARY:Recycling & Compost Open: 8:00AM - Noon
DESCRIPTION:
URL:https://selinsgrove.org/events/recycling-800am-noon/2026-10-03/
LOCATION:Recycling\, 219  W. Sassafras Street\, Selinsgrove
CATEGORIES:Services
END:VEVENT
BEGIN:VEVENT
DTSTART;TZID=America/New_York:20261017T080000
DTEND;TZID=America/New_York:20261017T120000
DTSTAMP:20260423T192603
CREATED:20260119T211733Z
LAST-MODIFIED:20260119T211808Z
UID:10001081-1792224000-1792238400@selinsgrove.org
SUMMARY:Recycling & Compost Open: 8:00AM - Noon
DESCRIPTION:
URL:https://selinsgrove.org/events/recycling-800am-noon/2026-10-17/
LOCATION:Recycling\, 219  W. Sassafras Street\, Selinsgrove
CATEGORIES:Services
END:VEVENT
BEGIN:VEVENT
DTSTART;TZID=America/New_York:20261107T080000
DTEND;TZID=America/New_York:20261107T120000
DTSTAMP:20260423T192603
CREATED:20260119T211733Z
LAST-MODIFIED:20260119T211808Z
UID:10001082-1794038400-1794052800@selinsgrove.org
SUMMARY:Recycling & Compost Open: 8:00AM - Noon
DESCRIPTION:
URL:https://selinsgrove.org/events/recycling-800am-noon/2026-11-07/
LOCATION:Recycling\, 219  W. Sassafras Street\, Selinsgrove
CATEGORIES:Services
END:VEVENT
BEGIN:VEVENT
DTSTART;TZID=America/New_York:20261121T080000
DTEND;TZID=America/New_York:20261121T120000
DTSTAMP:20260423T192603
CREATED:20260119T211733Z
LAST-MODIFIED:20260119T211808Z
UID:10001083-1795248000-1795262400@selinsgrove.org
SUMMARY:Recycling & Compost Open: 8:00AM - Noon
DESCRIPTION:
URL:https://selinsgrove.org/events/recycling-800am-noon/2026-11-21/
LOCATION:Recycling\, 219  W. Sassafras Street\, Selinsgrove
CATEGORIES:Services
END:VEVENT
BEGIN:VEVENT
DTSTART;TZID=America/New_York:20261205T080000
DTEND;TZID=America/New_York:20261205T120000
DTSTAMP:20260423T192603
CREATED:20260119T211733Z
LAST-MODIFIED:20260119T211808Z
UID:10001084-1796457600-1796472000@selinsgrove.org
SUMMARY:Recycling & Compost Open: 8:00AM - Noon
DESCRIPTION:
URL:https://selinsgrove.org/events/recycling-800am-noon/2026-12-05/
LOCATION:Recycling\, 219  W. Sassafras Street\, Selinsgrove
CATEGORIES:Services
END:VEVENT
BEGIN:VEVENT
DTSTART;TZID=America/New_York:20261219T080000
DTEND;TZID=America/New_York:20261219T120000
DTSTAMP:20260423T192603
CREATED:20260119T211733Z
LAST-MODIFIED:20260119T211808Z
UID:10001085-1797667200-1797681600@selinsgrove.org
SUMMARY:Recycling & Compost Open: 8:00AM - Noon
DESCRIPTION:
URL:https://selinsgrove.org/events/recycling-800am-noon/2026-12-19/
LOCATION:Recycling\, 219  W. Sassafras Street\, Selinsgrove
CATEGORIES:Services
END:VEVENT
END:VCALENDAR