BEGIN:VCALENDAR
VERSION:2.0
PRODID:-//Borough of Selinsgrove Pa - ECPv6.15.20//NONSGML v1.0//EN
CALSCALE:GREGORIAN
METHOD:PUBLISH
X-ORIGINAL-URL:https://selinsgrove.org
X-WR-CALDESC:Events for Borough of Selinsgrove Pa
REFRESH-INTERVAL;VALUE=DURATION:PT1H
X-Robots-Tag:noindex
X-PUBLISHED-TTL:PT1H
BEGIN:VTIMEZONE
TZID:America/New_York
BEGIN:DAYLIGHT
TZOFFSETFROM:-0500
TZOFFSETTO:-0400
TZNAME:EDT
DTSTART:20240310T070000
END:DAYLIGHT
BEGIN:STANDARD
TZOFFSETFROM:-0400
TZOFFSETTO:-0500
TZNAME:EST
DTSTART:20241103T060000
END:STANDARD
BEGIN:DAYLIGHT
TZOFFSETFROM:-0500
TZOFFSETTO:-0400
TZNAME:EDT
DTSTART:20250309T070000
END:DAYLIGHT
BEGIN:STANDARD
TZOFFSETFROM:-0400
TZOFFSETTO:-0500
TZNAME:EST
DTSTART:20251102T060000
END:STANDARD
BEGIN:DAYLIGHT
TZOFFSETFROM:-0500
TZOFFSETTO:-0400
TZNAME:EDT
DTSTART:20260308T070000
END:DAYLIGHT
BEGIN:STANDARD
TZOFFSETFROM:-0400
TZOFFSETTO:-0500
TZNAME:EST
DTSTART:20261101T060000
END:STANDARD
END:VTIMEZONE
BEGIN:VEVENT
DTSTART;VALUE=DATE:20251104
DTEND;VALUE=DATE:20251105
DTSTAMP:20260423T080748
CREATED:20241230T183102Z
LAST-MODIFIED:20241230T183102Z
UID:10000597-1762214400-1762300799@selinsgrove.org
SUMMARY:Public Works Closed - Office Open
DESCRIPTION:
URL:https://selinsgrove.org/events/public-works-closed-office-open/
CATEGORIES:Services
END:VEVENT
BEGIN:VEVENT
DTSTART;VALUE=DATE:20251111
DTEND;VALUE=DATE:20251112
DTSTAMP:20260423T080748
CREATED:20241230T183143Z
LAST-MODIFIED:20241230T183143Z
UID:10000598-1762819200-1762905599@selinsgrove.org
SUMMARY:Office & Public Works Closed
DESCRIPTION:
URL:https://selinsgrove.org/events/office-public-works-closed-6/
CATEGORIES:Services
END:VEVENT
BEGIN:VEVENT
DTSTART;VALUE=DATE:20251120
DTEND;VALUE=DATE:20251121
DTSTAMP:20260423T080748
CREATED:20250319T150606Z
LAST-MODIFIED:20250319T150606Z
UID:10000645-1763596800-1763683199@selinsgrove.org
SUMMARY:Quarterly Utility Billing Due Date
DESCRIPTION:BILLING AND PAYMENT DATES REMAIN THE SAME EACH YEAR\nWater/Sewer/Recycling/Rental Registration Billing: \n1st qtr.  (January/February/March) bills will be mailed or emailed on/before April 20th –> bills due May 20th \n2nd qtr.  (April/May/June) bills will be mailed or emailed on/before July 20th –> bills due August 20th \n3rd qtr.   (July/August/September) bills will be mailed or emailed on/before October 20th –> bills due November 20th \n4th qtr.   (October/November/December) bills will be mailed or emailed on/before January 20th –> bills due February 20th \n\nPublic Water
URL:https://selinsgrove.org/events/quarterly-utility-billing-due-date-2/2025-11-20/
CATEGORIES:Services
END:VEVENT
BEGIN:VEVENT
DTSTART;VALUE=DATE:20251126
DTEND;VALUE=DATE:20251127
DTSTAMP:20260423T080748
CREATED:20241230T184212Z
LAST-MODIFIED:20241230T184212Z
UID:10000605-1764115200-1764201599@selinsgrove.org
SUMMARY:Early Closing: Office (1:45PM) & Public Works (12:00PM)
DESCRIPTION:
URL:https://selinsgrove.org/events/early-closing-office-145pm-public-works-1200pm-2/
CATEGORIES:Services
END:VEVENT
BEGIN:VEVENT
DTSTART;VALUE=DATE:20251127
DTEND;VALUE=DATE:20251128
DTSTAMP:20260423T080748
CREATED:20241230T183209Z
LAST-MODIFIED:20241230T183209Z
UID:10000599-1764201600-1764287999@selinsgrove.org
SUMMARY:Office & Public Works Closed
DESCRIPTION:
URL:https://selinsgrove.org/events/office-public-works-closed-7/
CATEGORIES:Services
END:VEVENT
BEGIN:VEVENT
DTSTART;VALUE=DATE:20251128
DTEND;VALUE=DATE:20251129
DTSTAMP:20260423T080748
CREATED:20241230T183250Z
LAST-MODIFIED:20241230T183250Z
UID:10000600-1764288000-1764374399@selinsgrove.org
SUMMARY:Office Closed - Limited Public Works Open
DESCRIPTION:
URL:https://selinsgrove.org/events/office-closed-limited-public-works-open/
CATEGORIES:Services
END:VEVENT
END:VCALENDAR