BEGIN:VCALENDAR
VERSION:2.0
PRODID:-//Borough of Selinsgrove Pa - ECPv6.15.20//NONSGML v1.0//EN
CALSCALE:GREGORIAN
METHOD:PUBLISH
X-WR-CALNAME:Borough of Selinsgrove Pa
X-ORIGINAL-URL:https://selinsgrove.org
X-WR-CALDESC:Events for Borough of Selinsgrove Pa
REFRESH-INTERVAL;VALUE=DURATION:PT1H
X-Robots-Tag:noindex
X-PUBLISHED-TTL:PT1H
BEGIN:VTIMEZONE
TZID:America/New_York
BEGIN:DAYLIGHT
TZOFFSETFROM:-0500
TZOFFSETTO:-0400
TZNAME:EDT
DTSTART:20240310T070000
END:DAYLIGHT
BEGIN:STANDARD
TZOFFSETFROM:-0400
TZOFFSETTO:-0500
TZNAME:EST
DTSTART:20241103T060000
END:STANDARD
BEGIN:DAYLIGHT
TZOFFSETFROM:-0500
TZOFFSETTO:-0400
TZNAME:EDT
DTSTART:20250309T070000
END:DAYLIGHT
BEGIN:STANDARD
TZOFFSETFROM:-0400
TZOFFSETTO:-0500
TZNAME:EST
DTSTART:20251102T060000
END:STANDARD
BEGIN:DAYLIGHT
TZOFFSETFROM:-0500
TZOFFSETTO:-0400
TZNAME:EDT
DTSTART:20260308T070000
END:DAYLIGHT
BEGIN:STANDARD
TZOFFSETFROM:-0400
TZOFFSETTO:-0500
TZNAME:EST
DTSTART:20261101T060000
END:STANDARD
END:VTIMEZONE
BEGIN:VEVENT
DTSTART;TZID=America/New_York:20250818T180000
DTEND;TZID=America/New_York:20250818T220000
DTSTAMP:20260423T125426
CREATED:20250818T182707Z
LAST-MODIFIED:20250818T182707Z
UID:10000719-1755540000-1755554400@selinsgrove.org
SUMMARY:Hydrant Flushing
DESCRIPTION:The Borough of Selinsgrove Water Department employees will begin flushing water hydrants on Monday\, August 18\, 2025 through August 25\, 2025 during the hours of 6:00PM to 10:00PM. Flushing will continue each evening until selected water hydrants are flushed. \nDuring this period of flushing water hydrants\, residents may experience cloudiness of water and low water pressure. Simply let the water run for a few minutes until it becomes clear.
URL:https://selinsgrove.org/events/hydrant-flushing/2025-08-18/
CATEGORIES:Services
END:VEVENT
BEGIN:VEVENT
DTSTART;TZID=America/New_York:20250819T180000
DTEND;TZID=America/New_York:20250819T220000
DTSTAMP:20260423T125426
CREATED:20250818T182707Z
LAST-MODIFIED:20250818T182707Z
UID:10000720-1755626400-1755640800@selinsgrove.org
SUMMARY:Hydrant Flushing
DESCRIPTION:The Borough of Selinsgrove Water Department employees will begin flushing water hydrants on Monday\, August 18\, 2025 through August 25\, 2025 during the hours of 6:00PM to 10:00PM. Flushing will continue each evening until selected water hydrants are flushed. \nDuring this period of flushing water hydrants\, residents may experience cloudiness of water and low water pressure. Simply let the water run for a few minutes until it becomes clear.
URL:https://selinsgrove.org/events/hydrant-flushing/2025-08-19/
CATEGORIES:Services
END:VEVENT
BEGIN:VEVENT
DTSTART;VALUE=DATE:20250820
DTEND;VALUE=DATE:20250821
DTSTAMP:20260423T125426
CREATED:20250319T150519Z
LAST-MODIFIED:20250319T150519Z
UID:10000640-1755648000-1755734399@selinsgrove.org
SUMMARY:Quarterly Utility Bill Due Date
DESCRIPTION:BILLING AND PAYMENT DATES REMAIN THE SAME EACH YEAR\nWater/Sewer/Recycling/Rental Registration Billing: \n1st qtr.  (January/February/March) bills will be mailed or emailed on/before April 20th –> bills due May 20th \n2nd qtr.  (April/May/June) bills will be mailed or emailed on/before July 20th –> bills due August 20th \n3rd qtr.   (July/August/September) bills will be mailed or emailed on/before October 20th –> bills due November 20th \n4th qtr.   (October/November/December) bills will be mailed or emailed on/before January 20th –> bills due February 20th \n\nPublic Water
URL:https://selinsgrove.org/events/quarterly-utility-bill-due-date/2025-08-20/
CATEGORIES:Services
END:VEVENT
BEGIN:VEVENT
DTSTART;TZID=America/New_York:20250820T180000
DTEND;TZID=America/New_York:20250820T220000
DTSTAMP:20260423T125426
CREATED:20250818T182707Z
LAST-MODIFIED:20250818T182707Z
UID:10000721-1755712800-1755727200@selinsgrove.org
SUMMARY:Hydrant Flushing
DESCRIPTION:The Borough of Selinsgrove Water Department employees will begin flushing water hydrants on Monday\, August 18\, 2025 through August 25\, 2025 during the hours of 6:00PM to 10:00PM. Flushing will continue each evening until selected water hydrants are flushed. \nDuring this period of flushing water hydrants\, residents may experience cloudiness of water and low water pressure. Simply let the water run for a few minutes until it becomes clear.
URL:https://selinsgrove.org/events/hydrant-flushing/2025-08-20/
CATEGORIES:Services
END:VEVENT
BEGIN:VEVENT
DTSTART;TZID=America/New_York:20250821T180000
DTEND;TZID=America/New_York:20250821T220000
DTSTAMP:20260423T125426
CREATED:20250818T182707Z
LAST-MODIFIED:20250818T182707Z
UID:10000722-1755799200-1755813600@selinsgrove.org
SUMMARY:Hydrant Flushing
DESCRIPTION:The Borough of Selinsgrove Water Department employees will begin flushing water hydrants on Monday\, August 18\, 2025 through August 25\, 2025 during the hours of 6:00PM to 10:00PM. Flushing will continue each evening until selected water hydrants are flushed. \nDuring this period of flushing water hydrants\, residents may experience cloudiness of water and low water pressure. Simply let the water run for a few minutes until it becomes clear.
URL:https://selinsgrove.org/events/hydrant-flushing/2025-08-21/
CATEGORIES:Services
END:VEVENT
BEGIN:VEVENT
DTSTART;TZID=America/New_York:20250822T180000
DTEND;TZID=America/New_York:20250822T220000
DTSTAMP:20260423T125426
CREATED:20250818T182707Z
LAST-MODIFIED:20250818T182707Z
UID:10000723-1755885600-1755900000@selinsgrove.org
SUMMARY:Hydrant Flushing
DESCRIPTION:The Borough of Selinsgrove Water Department employees will begin flushing water hydrants on Monday\, August 18\, 2025 through August 25\, 2025 during the hours of 6:00PM to 10:00PM. Flushing will continue each evening until selected water hydrants are flushed. \nDuring this period of flushing water hydrants\, residents may experience cloudiness of water and low water pressure. Simply let the water run for a few minutes until it becomes clear.
URL:https://selinsgrove.org/events/hydrant-flushing/2025-08-22/
CATEGORIES:Services
END:VEVENT
BEGIN:VEVENT
DTSTART;TZID=America/New_York:20250825T180000
DTEND;TZID=America/New_York:20250825T220000
DTSTAMP:20260423T125426
CREATED:20250818T182707Z
LAST-MODIFIED:20250818T182707Z
UID:10000724-1756144800-1756159200@selinsgrove.org
SUMMARY:Hydrant Flushing
DESCRIPTION:The Borough of Selinsgrove Water Department employees will begin flushing water hydrants on Monday\, August 18\, 2025 through August 25\, 2025 during the hours of 6:00PM to 10:00PM. Flushing will continue each evening until selected water hydrants are flushed. \nDuring this period of flushing water hydrants\, residents may experience cloudiness of water and low water pressure. Simply let the water run for a few minutes until it becomes clear.
URL:https://selinsgrove.org/events/hydrant-flushing/2025-08-25/
CATEGORIES:Services
END:VEVENT
END:VCALENDAR