BEGIN:VCALENDAR
VERSION:2.0
PRODID:-//Borough of Selinsgrove Pa - ECPv6.15.20//NONSGML v1.0//EN
CALSCALE:GREGORIAN
METHOD:PUBLISH
X-WR-CALNAME:Borough of Selinsgrove Pa
X-ORIGINAL-URL:https://selinsgrove.org
X-WR-CALDESC:Events for Borough of Selinsgrove Pa
REFRESH-INTERVAL;VALUE=DURATION:PT1H
X-Robots-Tag:noindex
X-PUBLISHED-TTL:PT1H
BEGIN:VTIMEZONE
TZID:America/New_York
BEGIN:DAYLIGHT
TZOFFSETFROM:-0500
TZOFFSETTO:-0400
TZNAME:EDT
DTSTART:20240310T070000
END:DAYLIGHT
BEGIN:STANDARD
TZOFFSETFROM:-0400
TZOFFSETTO:-0500
TZNAME:EST
DTSTART:20241103T060000
END:STANDARD
BEGIN:DAYLIGHT
TZOFFSETFROM:-0500
TZOFFSETTO:-0400
TZNAME:EDT
DTSTART:20250309T070000
END:DAYLIGHT
BEGIN:STANDARD
TZOFFSETFROM:-0400
TZOFFSETTO:-0500
TZNAME:EST
DTSTART:20251102T060000
END:STANDARD
BEGIN:DAYLIGHT
TZOFFSETFROM:-0500
TZOFFSETTO:-0400
TZNAME:EDT
DTSTART:20260308T070000
END:DAYLIGHT
BEGIN:STANDARD
TZOFFSETFROM:-0400
TZOFFSETTO:-0500
TZNAME:EST
DTSTART:20261101T060000
END:STANDARD
END:VTIMEZONE
BEGIN:VEVENT
DTSTART;VALUE=DATE:20250520
DTEND;VALUE=DATE:20250521
DTSTAMP:20260423T182015
CREATED:20250319T150413Z
LAST-MODIFIED:20250319T150413Z
UID:10000635-1747699200-1747785599@selinsgrove.org
SUMMARY:Quarterly Utility Billing Due Date
DESCRIPTION:BILLING AND PAYMENT DATES REMAIN THE SAME EACH YEAR\nWater/Sewer/Recycling/Rental Registration Billing: \n1st qtr.  (January/February/March) bills will be mailed or emailed on/before April 20th –> bills due May 20th \n2nd qtr.  (April/May/June) bills will be mailed or emailed on/before July 20th –> bills due August 20th \n3rd qtr.   (July/August/September) bills will be mailed or emailed on/before October 20th –> bills due November 20th \n4th qtr.   (October/November/December) bills will be mailed or emailed on/before January 20th –> bills due February 20th \n\nPublic Water
URL:https://selinsgrove.org/events/quarterly-utility-billing-due-date/2025-05-20/
CATEGORIES:Services
END:VEVENT
BEGIN:VEVENT
DTSTART;VALUE=DATE:20250526
DTEND;VALUE=DATE:20250527
DTSTAMP:20260423T182015
CREATED:20241230T182647Z
LAST-MODIFIED:20241230T182647Z
UID:10000592-1748217600-1748303999@selinsgrove.org
SUMMARY:Office & Public Works Closed
DESCRIPTION:
URL:https://selinsgrove.org/events/office-public-works-closed-2/
CATEGORIES:Services
END:VEVENT
END:VCALENDAR