BEGIN:VCALENDAR
VERSION:2.0
PRODID:-//Borough of Selinsgrove Pa - ECPv6.15.20//NONSGML v1.0//EN
CALSCALE:GREGORIAN
METHOD:PUBLISH
X-ORIGINAL-URL:https://selinsgrove.org
X-WR-CALDESC:Events for Borough of Selinsgrove Pa
REFRESH-INTERVAL;VALUE=DURATION:PT1H
X-Robots-Tag:noindex
X-PUBLISHED-TTL:PT1H
BEGIN:VTIMEZONE
TZID:America/New_York
BEGIN:DAYLIGHT
TZOFFSETFROM:-0500
TZOFFSETTO:-0400
TZNAME:EDT
DTSTART:20240310T070000
END:DAYLIGHT
BEGIN:STANDARD
TZOFFSETFROM:-0400
TZOFFSETTO:-0500
TZNAME:EST
DTSTART:20241103T060000
END:STANDARD
BEGIN:DAYLIGHT
TZOFFSETFROM:-0500
TZOFFSETTO:-0400
TZNAME:EDT
DTSTART:20250309T070000
END:DAYLIGHT
BEGIN:STANDARD
TZOFFSETFROM:-0400
TZOFFSETTO:-0500
TZNAME:EST
DTSTART:20251102T060000
END:STANDARD
BEGIN:DAYLIGHT
TZOFFSETFROM:-0500
TZOFFSETTO:-0400
TZNAME:EDT
DTSTART:20260308T070000
END:DAYLIGHT
BEGIN:STANDARD
TZOFFSETFROM:-0400
TZOFFSETTO:-0500
TZNAME:EST
DTSTART:20261101T060000
END:STANDARD
END:VTIMEZONE
BEGIN:VEVENT
DTSTART;TZID=America/New_York:20250407T073000
DTEND;TZID=America/New_York:20250407T150000
DTSTAMP:20260423T195643
CREATED:20250212T204728Z
LAST-MODIFIED:20250212T204728Z
UID:10000607-1744011000-1744038000@selinsgrove.org
SUMMARY:Spring Clean-Up 2025
DESCRIPTION:Selinsgrove Borough Spring Clean-Up 2025
URL:https://selinsgrove.org/events/spring-clean-up-2025/2025-04-07/
CATEGORIES:Services
END:VEVENT
BEGIN:VEVENT
DTSTART;TZID=America/New_York:20250408T073000
DTEND;TZID=America/New_York:20250408T150000
DTSTAMP:20260423T195643
CREATED:20250212T204728Z
LAST-MODIFIED:20250212T204728Z
UID:10000608-1744097400-1744124400@selinsgrove.org
SUMMARY:Spring Clean-Up 2025
DESCRIPTION:Selinsgrove Borough Spring Clean-Up 2025
URL:https://selinsgrove.org/events/spring-clean-up-2025/2025-04-08/
CATEGORIES:Services
END:VEVENT
BEGIN:VEVENT
DTSTART;TZID=America/New_York:20250412T080000
DTEND;TZID=America/New_York:20250412T120000
DTSTAMP:20260423T195643
CREATED:20250212T204923Z
LAST-MODIFIED:20250212T205129Z
UID:10000609-1744444800-1744459200@selinsgrove.org
SUMMARY:Electronics Recycling
DESCRIPTION:Other Recycling Opportunities 2025
URL:https://selinsgrove.org/events/electronics-recycling/
CATEGORIES:Services
END:VEVENT
BEGIN:VEVENT
DTSTART;VALUE=DATE:20250418
DTEND;VALUE=DATE:20250419
DTSTAMP:20260423T195643
CREATED:20241230T182602Z
LAST-MODIFIED:20241230T182602Z
UID:10000591-1744934400-1745020799@selinsgrove.org
SUMMARY:Office & Public Works Closed
DESCRIPTION:
URL:https://selinsgrove.org/events/office-public-works-closed/
CATEGORIES:Services
END:VEVENT
END:VCALENDAR