BEGIN:VCALENDAR
VERSION:2.0
PRODID:-//Borough of Selinsgrove Pa - ECPv6.15.20//NONSGML v1.0//EN
CALSCALE:GREGORIAN
METHOD:PUBLISH
X-ORIGINAL-URL:https://selinsgrove.org
X-WR-CALDESC:Events for Borough of Selinsgrove Pa
REFRESH-INTERVAL;VALUE=DURATION:PT1H
X-Robots-Tag:noindex
X-PUBLISHED-TTL:PT1H
BEGIN:VTIMEZONE
TZID:America/New_York
BEGIN:DAYLIGHT
TZOFFSETFROM:-0500
TZOFFSETTO:-0400
TZNAME:EDT
DTSTART:20240310T070000
END:DAYLIGHT
BEGIN:STANDARD
TZOFFSETFROM:-0400
TZOFFSETTO:-0500
TZNAME:EST
DTSTART:20241103T060000
END:STANDARD
BEGIN:DAYLIGHT
TZOFFSETFROM:-0500
TZOFFSETTO:-0400
TZNAME:EDT
DTSTART:20250309T070000
END:DAYLIGHT
BEGIN:STANDARD
TZOFFSETFROM:-0400
TZOFFSETTO:-0500
TZNAME:EST
DTSTART:20251102T060000
END:STANDARD
BEGIN:DAYLIGHT
TZOFFSETFROM:-0500
TZOFFSETTO:-0400
TZNAME:EDT
DTSTART:20260308T070000
END:DAYLIGHT
BEGIN:STANDARD
TZOFFSETFROM:-0400
TZOFFSETTO:-0500
TZNAME:EST
DTSTART:20261101T060000
END:STANDARD
BEGIN:DAYLIGHT
TZOFFSETFROM:-0500
TZOFFSETTO:-0400
TZNAME:EDT
DTSTART:20270314T070000
END:DAYLIGHT
BEGIN:STANDARD
TZOFFSETFROM:-0400
TZOFFSETTO:-0500
TZNAME:EST
DTSTART:20271107T060000
END:STANDARD
END:VTIMEZONE
BEGIN:VEVENT
DTSTART;TZID=America/New_York:20251218T173000
DTEND;TZID=America/New_York:20251218T173000
DTSTAMP:20260421T131138
CREATED:20251215T170205Z
LAST-MODIFIED:20251215T170302Z
UID:10000762-1766079000-1766079000@selinsgrove.org
SUMMARY:Public Hearing: Fluoride
DESCRIPTION:Public Hearing: Fluoride \nPUBLIC NOTICE\nThe Selinsgrove Borough and Selinsgrove Municipal Authority are considering to discontinue the addition of fluoride to the public drinking water supply. We invite all customers and interested parties to submit written comments regarding this proposed change. The comment period will remain open for 30 days\, beginning on December 17\, 2025 and ending on January 16\, 2026. Comments can be submitted 1) in writing at Selinsgrove Borough Office\, 1 N. High Street\, Selinsgrove\, PA 17870\, M-F 8:30am-4:30pm\, 2) by postal mail at above address\, 3) at regular monthly meetings: Selinsgrove Borough Council: January 5\, 2026 at 7:00pm; Selinsgrove Municipal Authority: January 8\, 2026 at 7:00pm; or 4) at a Public Hearing on December 18\, 2025 at 5:30pm. All meetings and hearings will take place at 1 N. High Street\, Selinsgrove in the Borough Council Chambers. Additional information can be found at www.selinsgrove.org.
URL:https://selinsgrove.org/events/public-hearing-fluoride/
CATEGORIES:Meetings
END:VEVENT
BEGIN:VEVENT
DTSTART;TZID=America/New_York:20260105T130000
DTEND;TZID=America/New_York:20260105T130000
DTSTAMP:20260421T131138
CREATED:20260120T142325Z
LAST-MODIFIED:20260120T142325Z
UID:10001110-1767618000-1767618000@selinsgrove.org
SUMMARY:Selinsgrove Borough Council: Administration/Finance Committee
DESCRIPTION:The regular monthly meetings of the Selinsgrove Borough Council: Administration/Finance Committee will be held at 1:00PM in the Borough Council Chambers\, 1 N High Street\, Selinsgrove\, PA on the first Monday of each month.  In the event there is a holiday on that Monday\, the meeting will be held on Tuesday at the same time in the same location.
URL:https://selinsgrove.org/events/selinsgrove-borough-council-administration-finance-committee/2026-01-05/
LOCATION:Borough Council Chambers\, 1 North High St.\, Selinsgrove
CATEGORIES:Meetings
END:VEVENT
BEGIN:VEVENT
DTSTART;TZID=America/New_York:20260105T150000
DTEND;TZID=America/New_York:20260105T150000
DTSTAMP:20260421T131138
CREATED:20260120T152548Z
LAST-MODIFIED:20260413T175144Z
UID:10001122-1767625200-1767625200@selinsgrove.org
SUMMARY:Selinsgrove Borough Council: Community Development/Constituent Ombudsman
DESCRIPTION:﻿﻿This committee meets January\, April\, July\, and October at 6:30PM on Council meeting dates. \nLiaison with Chamber of Commerce\, SPI\, Service Clubs\, School District\, Ministerium\, Susquehanna University\, Community Activity Organizations\, Constituent Ombudsman\, Oversight of Zoning changes \nThis committee will meet in the Borough Council Chambers at 1 N. High Street\, Selinsgrove\, PA.
URL:https://selinsgrove.org/events/selinsgrove-borough-council-community-development-constituent-ombudsman/2026-01-05/
LOCATION:Borough Council Chambers\, 1 North High St.\, Selinsgrove
CATEGORIES:Meetings
END:VEVENT
BEGIN:VEVENT
DTSTART;TZID=America/New_York:20260105T190000
DTEND;TZID=America/New_York:20260105T190000
DTSTAMP:20260421T131138
CREATED:20260113T210226Z
LAST-MODIFIED:20260113T210226Z
UID:10000767-1767639600-1767639600@selinsgrove.org
SUMMARY:Selinsgrove Borough Council Meeting
DESCRIPTION:The regular monthly meetings of the Selinsgrove Borough Council will be held at 7:00PM in the Borough Council Chambers\, 1 N High Street\, Selinsgrove\, PA on the first Monday of each month.  In the event there is a holiday on that Monday\, the meeting will be held on Tuesday at the same time in the same location.  If you would prefer to participate via Zoom or phone\, please contact the office at 570-374-2311 or email borough@selinsgrove.org no later than 3:00PM the day of the meeting to request the link or call-in information to the meeting.
URL:https://selinsgrove.org/events/selinsgrove-borough-council-meeting/2026-01-05/
CATEGORIES:Meetings
END:VEVENT
BEGIN:VEVENT
DTSTART;TZID=America/New_York:20260108T190000
DTEND;TZID=America/New_York:20260108T190000
DTSTAMP:20260421T131138
CREATED:20260113T211519Z
LAST-MODIFIED:20260120T140041Z
UID:10000791-1767898800-1767898800@selinsgrove.org
SUMMARY:Selinsgrove Borough Zoning Hearing Board
DESCRIPTION:Provided there is business to discuss\, the regular monthly meetings of the Selinsgrove Borough Zoning Hearing Board will be held at 7:00PM in the Borough Council Chambers\, 1 N High Street\, Selinsgrove\, PA on the first Thursday of each month.  For questions and to confirm there will be a meeting\, please contact Deputy Zoning Officer\, Lindsey Mull\, at lbrouse@selinsgrove.org or call the office at 570-374-2311.
URL:https://selinsgrove.org/events/selinsgrove-borough-zoning-hearing-board/2026-01-08/
LOCATION:Borough Council Chambers\, 1 North High St.\, Selinsgrove
CATEGORIES:Meetings
END:VEVENT
BEGIN:VEVENT
DTSTART;TZID=America/New_York:20260108T190000
DTEND;TZID=America/New_York:20260108T190000
DTSTAMP:20260421T131138
CREATED:20260120T141422Z
LAST-MODIFIED:20260120T141422Z
UID:10001098-1767898800-1767898800@selinsgrove.org
SUMMARY:Selinsgrove Borough Municipal Authority
DESCRIPTION:Provided there is business to discuss\, the regular monthly meetings of the Selinsgrove Municipal Authority will be held at 7:00PM in the Borough Council Chambers\, 1 N High Street\, Selinsgrove\, PA on the second Thursday of each month.  For questions and to confirm there will be a meeting\, please call the office at 570-374-2311.
URL:https://selinsgrove.org/events/selinsgrove-borough-municipal-authority/2026-01-08/
LOCATION:Borough Council Chambers\, 1 North High St.\, Selinsgrove
CATEGORIES:Meetings
END:VEVENT
BEGIN:VEVENT
DTSTART;TZID=America/New_York:20260115T140000
DTEND;TZID=America/New_York:20260115T140000
DTSTAMP:20260421T131138
CREATED:20260120T155028Z
LAST-MODIFIED:20260120T155028Z
UID:10001126-1768485600-1768485600@selinsgrove.org
SUMMARY:Selinsgrove Borough Council: Public Facilities & Services
DESCRIPTION:This Committee meets at 2:00PM on the third Thursday of the month. \nStreets\, Alleys\, Sidewalks & Curbing\, Water Supply & Conveyance\, Storm & Sanitary Sewer Conveyance\, Refuse\, Disposal\, Recycling & Composting\, Cable TV\, Parks & Recreation\, Oversight of Emergency Management Policies & Procedures\, Signage & Demarcations\, Snow Removal\, Activities & Emergency Routings (Street closures for events)\, Police & Fire Departments\, and Code Issues \nThis committee will meet in the Borough Council Chambers at 1 N. High Street\, Selinsgrove\, PA.
URL:https://selinsgrove.org/events/selinsgrove-borough-council-public-facilities-services-5/2026-01-15/
LOCATION:Borough Council Chambers\, 1 North High St.\, Selinsgrove
CATEGORIES:Meetings
END:VEVENT
BEGIN:VEVENT
DTSTART;TZID=America/New_York:20260121T173000
DTEND;TZID=America/New_York:20260121T173000
DTSTAMP:20260421T131138
CREATED:20260120T135748Z
LAST-MODIFIED:20260120T135748Z
UID:10001086-1769016600-1769016600@selinsgrove.org
SUMMARY:Selinsgrove Borough Parks & Recreation Board
DESCRIPTION:Provided there is business to discuss\, the regular bi-monthly meetings of the Selinsgrove Parks and Recreation Board will be held at 5:30PM in the Borough Council Chambers\, 1 N High Street\, Selinsgrove\, PA on the third Wednesday of every odd numbered month.  For questions and to confirm there will be a meeting\, please contact Borough Manager Lauren Martz at lmartz@selinsgrove.org or call the office at 570-374-2311.
URL:https://selinsgrove.org/events/selinsgrove-borough-parks-recreation-board/2026-01-21/
LOCATION:Borough Council Chambers\, 1 North High St.\, Selinsgrove
CATEGORIES:Meetings
END:VEVENT
BEGIN:VEVENT
DTSTART;TZID=America/New_York:20260121T190000
DTEND;TZID=America/New_York:20260121T190000
DTSTAMP:20260421T131138
CREATED:20260113T210910Z
LAST-MODIFIED:20260120T135931Z
UID:10000779-1769022000-1769022000@selinsgrove.org
SUMMARY:Selinsgrove Borough Planning Commission
DESCRIPTION:Provided there is business to discuss\, the regular monthly meetings of the Selinsgrove Borough Planning Commission will be held at 7:00PM in the Borough Council Chambers\, 1 N High Street\, Selinsgrove\, PA on the third Wednesday of each month.  For questions and to confirm there will be a meeting\, please contact Deputy Zoning Officer\, Lindsey Mull\, at lmull@selinsgrove.org or call the office at 570-374-2311.
URL:https://selinsgrove.org/events/selinsgrove-borough-planning-commission/2026-01-21/
LOCATION:Borough Council Chambers\, 1 North High St.\, Selinsgrove
CATEGORIES:Meetings
END:VEVENT
BEGIN:VEVENT
DTSTART;TZID=America/New_York:20260202T130000
DTEND;TZID=America/New_York:20260202T130000
DTSTAMP:20260421T131138
CREATED:20260120T142325Z
LAST-MODIFIED:20260120T142325Z
UID:10001111-1770037200-1770037200@selinsgrove.org
SUMMARY:Selinsgrove Borough Council: Administration/Finance Committee
DESCRIPTION:The regular monthly meetings of the Selinsgrove Borough Council: Administration/Finance Committee will be held at 1:00PM in the Borough Council Chambers\, 1 N High Street\, Selinsgrove\, PA on the first Monday of each month.  In the event there is a holiday on that Monday\, the meeting will be held on Tuesday at the same time in the same location.
URL:https://selinsgrove.org/events/selinsgrove-borough-council-administration-finance-committee/2026-02-02/
LOCATION:Borough Council Chambers\, 1 North High St.\, Selinsgrove
CATEGORIES:Meetings
END:VEVENT
BEGIN:VEVENT
DTSTART;TZID=America/New_York:20260202T190000
DTEND;TZID=America/New_York:20260202T190000
DTSTAMP:20260421T131138
CREATED:20260113T210226Z
LAST-MODIFIED:20260113T210226Z
UID:10000768-1770058800-1770058800@selinsgrove.org
SUMMARY:Selinsgrove Borough Council Meeting
DESCRIPTION:The regular monthly meetings of the Selinsgrove Borough Council will be held at 7:00PM in the Borough Council Chambers\, 1 N High Street\, Selinsgrove\, PA on the first Monday of each month.  In the event there is a holiday on that Monday\, the meeting will be held on Tuesday at the same time in the same location.  If you would prefer to participate via Zoom or phone\, please contact the office at 570-374-2311 or email borough@selinsgrove.org no later than 3:00PM the day of the meeting to request the link or call-in information to the meeting.
URL:https://selinsgrove.org/events/selinsgrove-borough-council-meeting/2026-02-02/
CATEGORIES:Meetings
END:VEVENT
BEGIN:VEVENT
DTSTART;TZID=America/New_York:20260205T190000
DTEND;TZID=America/New_York:20260205T190000
DTSTAMP:20260421T131138
CREATED:20260113T211519Z
LAST-MODIFIED:20260120T140041Z
UID:10000792-1770318000-1770318000@selinsgrove.org
SUMMARY:Selinsgrove Borough Zoning Hearing Board
DESCRIPTION:Provided there is business to discuss\, the regular monthly meetings of the Selinsgrove Borough Zoning Hearing Board will be held at 7:00PM in the Borough Council Chambers\, 1 N High Street\, Selinsgrove\, PA on the first Thursday of each month.  For questions and to confirm there will be a meeting\, please contact Deputy Zoning Officer\, Lindsey Mull\, at lbrouse@selinsgrove.org or call the office at 570-374-2311.
URL:https://selinsgrove.org/events/selinsgrove-borough-zoning-hearing-board/2026-02-05/
LOCATION:Borough Council Chambers\, 1 North High St.\, Selinsgrove
CATEGORIES:Meetings
END:VEVENT
BEGIN:VEVENT
DTSTART;TZID=America/New_York:20260212T190000
DTEND;TZID=America/New_York:20260212T190000
DTSTAMP:20260421T131138
CREATED:20260120T141422Z
LAST-MODIFIED:20260120T141422Z
UID:10001099-1770922800-1770922800@selinsgrove.org
SUMMARY:Selinsgrove Borough Municipal Authority
DESCRIPTION:Provided there is business to discuss\, the regular monthly meetings of the Selinsgrove Municipal Authority will be held at 7:00PM in the Borough Council Chambers\, 1 N High Street\, Selinsgrove\, PA on the second Thursday of each month.  For questions and to confirm there will be a meeting\, please call the office at 570-374-2311.
URL:https://selinsgrove.org/events/selinsgrove-borough-municipal-authority/2026-02-12/
LOCATION:Borough Council Chambers\, 1 North High St.\, Selinsgrove
CATEGORIES:Meetings
END:VEVENT
BEGIN:VEVENT
DTSTART;TZID=America/New_York:20260218T173000
DTEND;TZID=America/New_York:20260218T173000
DTSTAMP:20260421T131138
CREATED:20260120T140657Z
LAST-MODIFIED:20260120T140657Z
UID:10001092-1771435800-1771435800@selinsgrove.org
SUMMARY:Selinsgrove Borough Shade Tree Commission
DESCRIPTION:Provided there is business to discuss\, the regular bi-monthly meetings of the Selinsgrove Shade Tree Commission will be held at 5:30PM in the Borough Council Chambers\, 1 N High Street\, Selinsgrove\, PA on the third Wednesday of every even numbered month.  For questions and to confirm there will be a meeting\, please contact Borough Manager Lauren Martz at lmartz@selinsgrove.org or call the office at 570-374-2311.
URL:https://selinsgrove.org/events/selinsgrove-borough-shade-tree-commission/2026-02-18/
LOCATION:Borough Council Chambers\, 1 North High St.\, Selinsgrove
CATEGORIES:Meetings
END:VEVENT
BEGIN:VEVENT
DTSTART;TZID=America/New_York:20260218T190000
DTEND;TZID=America/New_York:20260218T190000
DTSTAMP:20260421T131138
CREATED:20260113T210910Z
LAST-MODIFIED:20260120T135931Z
UID:10000780-1771441200-1771441200@selinsgrove.org
SUMMARY:Selinsgrove Borough Planning Commission
DESCRIPTION:Provided there is business to discuss\, the regular monthly meetings of the Selinsgrove Borough Planning Commission will be held at 7:00PM in the Borough Council Chambers\, 1 N High Street\, Selinsgrove\, PA on the third Wednesday of each month.  For questions and to confirm there will be a meeting\, please contact Deputy Zoning Officer\, Lindsey Mull\, at lmull@selinsgrove.org or call the office at 570-374-2311.
URL:https://selinsgrove.org/events/selinsgrove-borough-planning-commission/2026-02-18/
LOCATION:Borough Council Chambers\, 1 North High St.\, Selinsgrove
CATEGORIES:Meetings
END:VEVENT
BEGIN:VEVENT
DTSTART;TZID=America/New_York:20260219T140000
DTEND;TZID=America/New_York:20260219T140000
DTSTAMP:20260421T131138
CREATED:20260120T155028Z
LAST-MODIFIED:20260120T155028Z
UID:10001127-1771509600-1771509600@selinsgrove.org
SUMMARY:Selinsgrove Borough Council: Public Facilities & Services
DESCRIPTION:This Committee meets at 2:00PM on the third Thursday of the month. \nStreets\, Alleys\, Sidewalks & Curbing\, Water Supply & Conveyance\, Storm & Sanitary Sewer Conveyance\, Refuse\, Disposal\, Recycling & Composting\, Cable TV\, Parks & Recreation\, Oversight of Emergency Management Policies & Procedures\, Signage & Demarcations\, Snow Removal\, Activities & Emergency Routings (Street closures for events)\, Police & Fire Departments\, and Code Issues \nThis committee will meet in the Borough Council Chambers at 1 N. High Street\, Selinsgrove\, PA.
URL:https://selinsgrove.org/events/selinsgrove-borough-council-public-facilities-services-5/2026-02-19/
LOCATION:Borough Council Chambers\, 1 North High St.\, Selinsgrove
CATEGORIES:Meetings
END:VEVENT
BEGIN:VEVENT
DTSTART;TZID=America/New_York:20260302T130000
DTEND;TZID=America/New_York:20260302T130000
DTSTAMP:20260421T131138
CREATED:20260120T142325Z
LAST-MODIFIED:20260120T142325Z
UID:10001112-1772456400-1772456400@selinsgrove.org
SUMMARY:Selinsgrove Borough Council: Administration/Finance Committee
DESCRIPTION:The regular monthly meetings of the Selinsgrove Borough Council: Administration/Finance Committee will be held at 1:00PM in the Borough Council Chambers\, 1 N High Street\, Selinsgrove\, PA on the first Monday of each month.  In the event there is a holiday on that Monday\, the meeting will be held on Tuesday at the same time in the same location.
URL:https://selinsgrove.org/events/selinsgrove-borough-council-administration-finance-committee/2026-03-02/
LOCATION:Borough Council Chambers\, 1 North High St.\, Selinsgrove
CATEGORIES:Meetings
END:VEVENT
BEGIN:VEVENT
DTSTART;TZID=America/New_York:20260302T190000
DTEND;TZID=America/New_York:20260302T190000
DTSTAMP:20260421T131138
CREATED:20260113T210226Z
LAST-MODIFIED:20260113T210226Z
UID:10000769-1772478000-1772478000@selinsgrove.org
SUMMARY:Selinsgrove Borough Council Meeting
DESCRIPTION:The regular monthly meetings of the Selinsgrove Borough Council will be held at 7:00PM in the Borough Council Chambers\, 1 N High Street\, Selinsgrove\, PA on the first Monday of each month.  In the event there is a holiday on that Monday\, the meeting will be held on Tuesday at the same time in the same location.  If you would prefer to participate via Zoom or phone\, please contact the office at 570-374-2311 or email borough@selinsgrove.org no later than 3:00PM the day of the meeting to request the link or call-in information to the meeting.
URL:https://selinsgrove.org/events/selinsgrove-borough-council-meeting/2026-03-02/
CATEGORIES:Meetings
END:VEVENT
BEGIN:VEVENT
DTSTART;TZID=America/New_York:20260305T190000
DTEND;TZID=America/New_York:20260305T190000
DTSTAMP:20260421T131138
CREATED:20260113T211519Z
LAST-MODIFIED:20260120T140041Z
UID:10000793-1772737200-1772737200@selinsgrove.org
SUMMARY:Selinsgrove Borough Zoning Hearing Board
DESCRIPTION:Provided there is business to discuss\, the regular monthly meetings of the Selinsgrove Borough Zoning Hearing Board will be held at 7:00PM in the Borough Council Chambers\, 1 N High Street\, Selinsgrove\, PA on the first Thursday of each month.  For questions and to confirm there will be a meeting\, please contact Deputy Zoning Officer\, Lindsey Mull\, at lbrouse@selinsgrove.org or call the office at 570-374-2311.
URL:https://selinsgrove.org/events/selinsgrove-borough-zoning-hearing-board/2026-03-05/
LOCATION:Borough Council Chambers\, 1 North High St.\, Selinsgrove
CATEGORIES:Meetings
END:VEVENT
BEGIN:VEVENT
DTSTART;TZID=America/New_York:20260312T190000
DTEND;TZID=America/New_York:20260312T190000
DTSTAMP:20260421T131138
CREATED:20260120T141422Z
LAST-MODIFIED:20260120T141422Z
UID:10001100-1773342000-1773342000@selinsgrove.org
SUMMARY:Selinsgrove Borough Municipal Authority
DESCRIPTION:Provided there is business to discuss\, the regular monthly meetings of the Selinsgrove Municipal Authority will be held at 7:00PM in the Borough Council Chambers\, 1 N High Street\, Selinsgrove\, PA on the second Thursday of each month.  For questions and to confirm there will be a meeting\, please call the office at 570-374-2311.
URL:https://selinsgrove.org/events/selinsgrove-borough-municipal-authority/2026-03-12/
LOCATION:Borough Council Chambers\, 1 North High St.\, Selinsgrove
CATEGORIES:Meetings
END:VEVENT
BEGIN:VEVENT
DTSTART;TZID=America/New_York:20260318T173000
DTEND;TZID=America/New_York:20260318T173000
DTSTAMP:20260421T131138
CREATED:20260120T135748Z
LAST-MODIFIED:20260120T135748Z
UID:10001087-1773855000-1773855000@selinsgrove.org
SUMMARY:Selinsgrove Borough Parks & Recreation Board
DESCRIPTION:Provided there is business to discuss\, the regular bi-monthly meetings of the Selinsgrove Parks and Recreation Board will be held at 5:30PM in the Borough Council Chambers\, 1 N High Street\, Selinsgrove\, PA on the third Wednesday of every odd numbered month.  For questions and to confirm there will be a meeting\, please contact Borough Manager Lauren Martz at lmartz@selinsgrove.org or call the office at 570-374-2311.
URL:https://selinsgrove.org/events/selinsgrove-borough-parks-recreation-board/2026-03-18/
LOCATION:Borough Council Chambers\, 1 North High St.\, Selinsgrove
CATEGORIES:Meetings
END:VEVENT
BEGIN:VEVENT
DTSTART;TZID=America/New_York:20260318T190000
DTEND;TZID=America/New_York:20260318T190000
DTSTAMP:20260421T131138
CREATED:20260113T210910Z
LAST-MODIFIED:20260120T135931Z
UID:10000781-1773860400-1773860400@selinsgrove.org
SUMMARY:Selinsgrove Borough Planning Commission
DESCRIPTION:Provided there is business to discuss\, the regular monthly meetings of the Selinsgrove Borough Planning Commission will be held at 7:00PM in the Borough Council Chambers\, 1 N High Street\, Selinsgrove\, PA on the third Wednesday of each month.  For questions and to confirm there will be a meeting\, please contact Deputy Zoning Officer\, Lindsey Mull\, at lmull@selinsgrove.org or call the office at 570-374-2311.
URL:https://selinsgrove.org/events/selinsgrove-borough-planning-commission/2026-03-18/
LOCATION:Borough Council Chambers\, 1 North High St.\, Selinsgrove
CATEGORIES:Meetings
END:VEVENT
BEGIN:VEVENT
DTSTART;TZID=America/New_York:20260319T140000
DTEND;TZID=America/New_York:20260319T140000
DTSTAMP:20260421T131138
CREATED:20260120T155028Z
LAST-MODIFIED:20260120T155028Z
UID:10001128-1773928800-1773928800@selinsgrove.org
SUMMARY:Selinsgrove Borough Council: Public Facilities & Services
DESCRIPTION:This Committee meets at 2:00PM on the third Thursday of the month. \nStreets\, Alleys\, Sidewalks & Curbing\, Water Supply & Conveyance\, Storm & Sanitary Sewer Conveyance\, Refuse\, Disposal\, Recycling & Composting\, Cable TV\, Parks & Recreation\, Oversight of Emergency Management Policies & Procedures\, Signage & Demarcations\, Snow Removal\, Activities & Emergency Routings (Street closures for events)\, Police & Fire Departments\, and Code Issues \nThis committee will meet in the Borough Council Chambers at 1 N. High Street\, Selinsgrove\, PA.
URL:https://selinsgrove.org/events/selinsgrove-borough-council-public-facilities-services-5/2026-03-19/
LOCATION:Borough Council Chambers\, 1 North High St.\, Selinsgrove
CATEGORIES:Meetings
END:VEVENT
BEGIN:VEVENT
DTSTART;TZID=America/New_York:20260402T190000
DTEND;TZID=America/New_York:20260402T190000
DTSTAMP:20260421T131138
CREATED:20260113T211519Z
LAST-MODIFIED:20260120T140041Z
UID:10000794-1775156400-1775156400@selinsgrove.org
SUMMARY:Selinsgrove Borough Zoning Hearing Board
DESCRIPTION:Provided there is business to discuss\, the regular monthly meetings of the Selinsgrove Borough Zoning Hearing Board will be held at 7:00PM in the Borough Council Chambers\, 1 N High Street\, Selinsgrove\, PA on the first Thursday of each month.  For questions and to confirm there will be a meeting\, please contact Deputy Zoning Officer\, Lindsey Mull\, at lbrouse@selinsgrove.org or call the office at 570-374-2311.
URL:https://selinsgrove.org/events/selinsgrove-borough-zoning-hearing-board/2026-04-02/
LOCATION:Borough Council Chambers\, 1 North High St.\, Selinsgrove
CATEGORIES:Meetings
END:VEVENT
BEGIN:VEVENT
DTSTART;TZID=America/New_York:20260406T130000
DTEND;TZID=America/New_York:20260406T130000
DTSTAMP:20260421T131138
CREATED:20260120T142325Z
LAST-MODIFIED:20260120T142325Z
UID:10001113-1775480400-1775480400@selinsgrove.org
SUMMARY:Selinsgrove Borough Council: Administration/Finance Committee
DESCRIPTION:The regular monthly meetings of the Selinsgrove Borough Council: Administration/Finance Committee will be held at 1:00PM in the Borough Council Chambers\, 1 N High Street\, Selinsgrove\, PA on the first Monday of each month.  In the event there is a holiday on that Monday\, the meeting will be held on Tuesday at the same time in the same location.
URL:https://selinsgrove.org/events/selinsgrove-borough-council-administration-finance-committee/2026-04-06/
LOCATION:Borough Council Chambers\, 1 North High St.\, Selinsgrove
CATEGORIES:Meetings
END:VEVENT
BEGIN:VEVENT
DTSTART;TZID=America/New_York:20260406T150000
DTEND;TZID=America/New_York:20260406T150000
DTSTAMP:20260421T131138
CREATED:20260120T152548Z
LAST-MODIFIED:20260413T175144Z
UID:10001123-1775487600-1775487600@selinsgrove.org
SUMMARY:Selinsgrove Borough Council: Community Development/Constituent Ombudsman
DESCRIPTION:﻿﻿This committee meets January\, April\, July\, and October at 6:30PM on Council meeting dates. \nLiaison with Chamber of Commerce\, SPI\, Service Clubs\, School District\, Ministerium\, Susquehanna University\, Community Activity Organizations\, Constituent Ombudsman\, Oversight of Zoning changes \nThis committee will meet in the Borough Council Chambers at 1 N. High Street\, Selinsgrove\, PA.
URL:https://selinsgrove.org/events/selinsgrove-borough-council-community-development-constituent-ombudsman/2026-04-06/
LOCATION:Borough Council Chambers\, 1 North High St.\, Selinsgrove
CATEGORIES:Meetings
END:VEVENT
BEGIN:VEVENT
DTSTART;TZID=America/New_York:20260406T190000
DTEND;TZID=America/New_York:20260406T190000
DTSTAMP:20260421T131138
CREATED:20260113T210226Z
LAST-MODIFIED:20260113T210226Z
UID:10000770-1775502000-1775502000@selinsgrove.org
SUMMARY:Selinsgrove Borough Council Meeting
DESCRIPTION:The regular monthly meetings of the Selinsgrove Borough Council will be held at 7:00PM in the Borough Council Chambers\, 1 N High Street\, Selinsgrove\, PA on the first Monday of each month.  In the event there is a holiday on that Monday\, the meeting will be held on Tuesday at the same time in the same location.  If you would prefer to participate via Zoom or phone\, please contact the office at 570-374-2311 or email borough@selinsgrove.org no later than 3:00PM the day of the meeting to request the link or call-in information to the meeting.
URL:https://selinsgrove.org/events/selinsgrove-borough-council-meeting/2026-04-06/
CATEGORIES:Meetings
END:VEVENT
BEGIN:VEVENT
DTSTART;TZID=America/New_York:20260409T190000
DTEND;TZID=America/New_York:20260409T190000
DTSTAMP:20260421T131138
CREATED:20260120T141422Z
LAST-MODIFIED:20260120T141422Z
UID:10001101-1775761200-1775761200@selinsgrove.org
SUMMARY:Selinsgrove Borough Municipal Authority
DESCRIPTION:Provided there is business to discuss\, the regular monthly meetings of the Selinsgrove Municipal Authority will be held at 7:00PM in the Borough Council Chambers\, 1 N High Street\, Selinsgrove\, PA on the second Thursday of each month.  For questions and to confirm there will be a meeting\, please call the office at 570-374-2311.
URL:https://selinsgrove.org/events/selinsgrove-borough-municipal-authority/2026-04-09/
LOCATION:Borough Council Chambers\, 1 North High St.\, Selinsgrove
CATEGORIES:Meetings
END:VEVENT
BEGIN:VEVENT
DTSTART;TZID=America/New_York:20260415T173000
DTEND;TZID=America/New_York:20260415T173000
DTSTAMP:20260421T131138
CREATED:20260120T140657Z
LAST-MODIFIED:20260120T140657Z
UID:10001093-1776274200-1776274200@selinsgrove.org
SUMMARY:Selinsgrove Borough Shade Tree Commission
DESCRIPTION:Provided there is business to discuss\, the regular bi-monthly meetings of the Selinsgrove Shade Tree Commission will be held at 5:30PM in the Borough Council Chambers\, 1 N High Street\, Selinsgrove\, PA on the third Wednesday of every even numbered month.  For questions and to confirm there will be a meeting\, please contact Borough Manager Lauren Martz at lmartz@selinsgrove.org or call the office at 570-374-2311.
URL:https://selinsgrove.org/events/selinsgrove-borough-shade-tree-commission/2026-04-15/
LOCATION:Borough Council Chambers\, 1 North High St.\, Selinsgrove
CATEGORIES:Meetings
END:VEVENT
BEGIN:VEVENT
DTSTART;TZID=America/New_York:20260415T190000
DTEND;TZID=America/New_York:20260415T190000
DTSTAMP:20260421T131138
CREATED:20260113T210910Z
LAST-MODIFIED:20260120T135931Z
UID:10000782-1776279600-1776279600@selinsgrove.org
SUMMARY:Selinsgrove Borough Planning Commission
DESCRIPTION:Provided there is business to discuss\, the regular monthly meetings of the Selinsgrove Borough Planning Commission will be held at 7:00PM in the Borough Council Chambers\, 1 N High Street\, Selinsgrove\, PA on the third Wednesday of each month.  For questions and to confirm there will be a meeting\, please contact Deputy Zoning Officer\, Lindsey Mull\, at lmull@selinsgrove.org or call the office at 570-374-2311.
URL:https://selinsgrove.org/events/selinsgrove-borough-planning-commission/2026-04-15/
LOCATION:Borough Council Chambers\, 1 North High St.\, Selinsgrove
CATEGORIES:Meetings
END:VEVENT
END:VCALENDAR