BEGIN:VCALENDAR
VERSION:2.0
PRODID:-//Borough of Selinsgrove Pa - ECPv6.15.20//NONSGML v1.0//EN
CALSCALE:GREGORIAN
METHOD:PUBLISH
X-WR-CALNAME:Borough of Selinsgrove Pa
X-ORIGINAL-URL:https://selinsgrove.org
X-WR-CALDESC:Events for Borough of Selinsgrove Pa
REFRESH-INTERVAL;VALUE=DURATION:PT1H
X-Robots-Tag:noindex
X-PUBLISHED-TTL:PT1H
BEGIN:VTIMEZONE
TZID:America/New_York
BEGIN:DAYLIGHT
TZOFFSETFROM:-0500
TZOFFSETTO:-0400
TZNAME:EDT
DTSTART:20240310T070000
END:DAYLIGHT
BEGIN:STANDARD
TZOFFSETFROM:-0400
TZOFFSETTO:-0500
TZNAME:EST
DTSTART:20241103T060000
END:STANDARD
BEGIN:DAYLIGHT
TZOFFSETFROM:-0500
TZOFFSETTO:-0400
TZNAME:EDT
DTSTART:20250309T070000
END:DAYLIGHT
BEGIN:STANDARD
TZOFFSETFROM:-0400
TZOFFSETTO:-0500
TZNAME:EST
DTSTART:20251102T060000
END:STANDARD
BEGIN:DAYLIGHT
TZOFFSETFROM:-0500
TZOFFSETTO:-0400
TZNAME:EDT
DTSTART:20260308T070000
END:DAYLIGHT
BEGIN:STANDARD
TZOFFSETFROM:-0400
TZOFFSETTO:-0500
TZNAME:EST
DTSTART:20261101T060000
END:STANDARD
END:VTIMEZONE
BEGIN:VEVENT
DTSTART;TZID=America/New_York:20250902T130000
DTEND;TZID=America/New_York:20250902T130000
DTSTAMP:20260422T031705
CREATED:20241226T195248Z
LAST-MODIFIED:20250409T155418Z
UID:10000560-1756818000-1756818000@selinsgrove.org
SUMMARY:Selinsgrove Borough Council: Administration/Finance Committee Meeting
DESCRIPTION:The regular monthly meetings of the Selinsgrove Borough Council: Administration/Finance Committee will be held at 1:00PM in the Borough Council Chambers\, 1 N High Street\, Selinsgrove\, PA on the first Monday of each month.  In the event there is a holiday on that Monday\, the meeting will be held on Tuesday at the same time in the same location.
URL:https://selinsgrove.org/events/selinsgrove-borough-council-administration-finance-committee-meeting-4/2025-09-02/
CATEGORIES:Meetings
END:VEVENT
BEGIN:VEVENT
DTSTART;TZID=America/New_York:20250902T190000
DTEND;TZID=America/New_York:20250902T190000
DTSTAMP:20260422T031705
CREATED:20241226T144803Z
LAST-MODIFIED:20241226T144803Z
UID:10000506-1756839600-1756839600@selinsgrove.org
SUMMARY:Selinsgrove Borough Council Meeting
DESCRIPTION:The regular monthly meetings of the Selinsgrove Borough Council will be held at 7:00PM in the Borough Council Chambers\, 1 N High Street\, Selinsgrove\, PA on the first Monday of each month.  In the event there is a holiday on that Monday\, the meeting will be held on Tuesday at the same time in the same location.  If you would prefer to participate via Zoom or phone\, please contact the office at 570-374-2311 or email borough@selinsgrove.org no later than 3:00PM the day of the meeting to request the link or call-in information to the meeting.
URL:https://selinsgrove.org/events/selinsgrove-borough-council-meeting-4/2025-09-02/
CATEGORIES:Meetings
END:VEVENT
BEGIN:VEVENT
DTSTART;TZID=America/New_York:20250904T190000
DTEND;TZID=America/New_York:20250904T190000
DTSTAMP:20260422T031705
CREATED:20241226T162736Z
LAST-MODIFIED:20241226T162736Z
UID:10000530-1757012400-1757012400@selinsgrove.org
SUMMARY:Selinsgrove Zoning Hearing Board
DESCRIPTION:Provided there is business to discuss\, the regular monthly meetings of the Selinsgrove Zoning Hearing Board will be held at 7:00PM in the Borough Council Chambers\, 1 N High Street\, Selinsgrove\, PA on the first Thursday of each month.  For questions and to confirm there will be a meeting\, please contact Deputy Zoning Officer\, Lindsey Mull\, at lbrouse@selinsgrove.org or call the office at 570-374-2311.
URL:https://selinsgrove.org/events/selinsgrove-zoning-hearing-board-4/2025-09-04/
CATEGORIES:Meetings
END:VEVENT
BEGIN:VEVENT
DTSTART;TZID=America/New_York:20250911T140000
DTEND;TZID=America/New_York:20250911T140000
DTSTAMP:20260422T031705
CREATED:20241226T200857Z
LAST-MODIFIED:20251209T135854Z
UID:10000735-1757599200-1757599200@selinsgrove.org
SUMMARY:Selinsgrove Borough Council: Public Facilities & Services
DESCRIPTION:Streets\, Alleys\, Sidewalks & Curbing\, Water Supply & Conveyance\, Storm & Sanitary Sewer Conveyance\, Refuse\, Disposal\, Recycling & Composting\, Cable TV\, Parks & Recreation\, Oversight of Emergency Management Policies & Procedures\, Signage & Demarcations\, Snow Removal\, Activities & Emergency Routings (Street closures for events)\, Police & Fire Departments\, and Code Issues \nThis committee will meet in the Borough Council Chambers at 1 N. High Street\, Selinsgrove\, PA.
URL:https://selinsgrove.org/events/selinsgrove-borough-council-public-facilities-services-4/2025-09-11/
CATEGORIES:Meetings
END:VEVENT
BEGIN:VEVENT
DTSTART;TZID=America/New_York:20250911T190000
DTEND;TZID=America/New_York:20250911T190000
DTSTAMP:20260422T031705
CREATED:20241226T193925Z
LAST-MODIFIED:20241226T193925Z
UID:10000548-1757617200-1757617200@selinsgrove.org
SUMMARY:Selinsgrove Municipal Authority
DESCRIPTION:Provided there is business to discuss\, the regular monthly meetings of the Selinsgrove Municipal Authority will be held at 7:00PM in the Borough Council Chambers\, 1 N High Street\, Selinsgrove\, PA on the second Thursday of each month.  For questions and to confirm there will be a meeting\, please call the office at 570-374-2311.
URL:https://selinsgrove.org/events/selinsgrove-municipal-authority-4/2025-09-11/
CATEGORIES:Meetings
END:VEVENT
BEGIN:VEVENT
DTSTART;TZID=America/New_York:20250917T173000
DTEND;TZID=America/New_York:20250917T173000
DTSTAMP:20260422T031705
CREATED:20241226T185221Z
LAST-MODIFIED:20241226T185221Z
UID:10000538-1758130200-1758130200@selinsgrove.org
SUMMARY:Selinsgrove Parks and Recreation Board
DESCRIPTION:Provided there is business to discuss\, the regular bi-monthly meetings of the Selinsgrove Parks and Recreation Board will be held at 5:30PM in the Borough Council Chambers\, 1 N High Street\, Selinsgrove\, PA on the third Wednesday of every odd numbered month.  For questions and to confirm there will be a meeting\, please contact Borough Manager Lauren Martz at lmartz@selinsgrove.org or call the office at 570-374-2311.
URL:https://selinsgrove.org/events/selinsgrove-parks-and-recreation-board-4/2025-09-17/
CATEGORIES:Meetings
END:VEVENT
BEGIN:VEVENT
DTSTART;TZID=America/New_York:20250917T190000
DTEND;TZID=America/New_York:20250917T190000
DTSTAMP:20260422T031705
CREATED:20241226T155333Z
LAST-MODIFIED:20241226T155333Z
UID:10000518-1758135600-1758135600@selinsgrove.org
SUMMARY:Selinsgrove Planning Commission
DESCRIPTION:Provided there is business to discuss\, the regular monthly meetings of the Selinsgrove Planning Commission will be held at 7:00PM in the Borough Council Chambers\, 1 N High Street\, Selinsgrove\, PA on the third Wednesday of each month.  For questions and to confirm there will be a meeting\, please contact Deputy Zoning Officer\, Lindsey Mull\, at lbrouse@selinsgrove.org or call the office at 570-374-2311.
URL:https://selinsgrove.org/events/selinsgrove-planning-commission-4/2025-09-17/
CATEGORIES:Meetings
END:VEVENT
END:VCALENDAR