BEGIN:VCALENDAR
VERSION:2.0
PRODID:-//Borough of Selinsgrove Pa - ECPv6.15.20//NONSGML v1.0//EN
CALSCALE:GREGORIAN
METHOD:PUBLISH
X-WR-CALNAME:Borough of Selinsgrove Pa
X-ORIGINAL-URL:https://selinsgrove.org
X-WR-CALDESC:Events for Borough of Selinsgrove Pa
REFRESH-INTERVAL;VALUE=DURATION:PT1H
X-Robots-Tag:noindex
X-PUBLISHED-TTL:PT1H
BEGIN:VTIMEZONE
TZID:America/New_York
BEGIN:DAYLIGHT
TZOFFSETFROM:-0500
TZOFFSETTO:-0400
TZNAME:EDT
DTSTART:20250309T070000
END:DAYLIGHT
BEGIN:STANDARD
TZOFFSETFROM:-0400
TZOFFSETTO:-0500
TZNAME:EST
DTSTART:20251102T060000
END:STANDARD
BEGIN:DAYLIGHT
TZOFFSETFROM:-0500
TZOFFSETTO:-0400
TZNAME:EDT
DTSTART:20260308T070000
END:DAYLIGHT
BEGIN:STANDARD
TZOFFSETFROM:-0400
TZOFFSETTO:-0500
TZNAME:EST
DTSTART:20261101T060000
END:STANDARD
BEGIN:DAYLIGHT
TZOFFSETFROM:-0500
TZOFFSETTO:-0400
TZNAME:EDT
DTSTART:20270314T070000
END:DAYLIGHT
BEGIN:STANDARD
TZOFFSETFROM:-0400
TZOFFSETTO:-0500
TZNAME:EST
DTSTART:20271107T060000
END:STANDARD
END:VTIMEZONE
BEGIN:VEVENT
DTSTART;TZID=America/New_York:20260421T073000
DTEND;TZID=America/New_York:20260421T153000
DTSTAMP:20260421T055909
CREATED:20260120T165511Z
LAST-MODIFIED:20260120T181512Z
UID:10002524-1776756600-1776785400@selinsgrove.org
SUMMARY:Compost Site - Open 7:30AM - 3:00PM
DESCRIPTION:Selinsgrove Borough Compost Yard\, Drop-Off South End of Strawberry Alley \nWeekdays (excluding holidays) from 7:30AM—3:00PM\n1st and 3rd Saturday (excluding holidays) from 8:00AM—NOON\nThis change is necessary to help prevent illegal dumping by non-residents. Violations of illegal dumping at the compost site have increased\, which is increasing the fees to grind the debris dropped off; fees which are paid by Selinsgrove Borough residents. Any recycling/compostable debris brought to a Selinsgrove Borough collection facility is only allowed from Selinsgrove Borough residences and Selinsgrove Borough businesses. For those who own property in Selinsgrove Borough but do not LIVE in Selinsgrove Borough\, your composting from the outside municipality should remain in that municipality.\nIf you have a business outside the Borough doing work for you that contains compost items\, they may take the compostable material to the site on your behalf. The resident and/or business should call to let us know this is happening since the site is monitored. We need to know the name of the company\, make/model of the vehicle\, and the license plate to avoid the business receiving a violation letter/fine for illegal dumping.\nGarden Residue\, Brush\, & Leaves ONLY!\nPlace at locations noted by signs in the yard area. \nNO GRASS CLIPPINGS.  \nNO BAGS.  \nNO DEMOLITION MATERIAL OR FILL.\nONLY Selinsgrove Borough residents can bring the compostable items listed above\, but the resulting mulch is available to anyone.  \n  \nSelinsgrove Borough is mandated by Act 101 of the State of Pennsylvania to require its residential\, commercial\, municipal\, and institutional establishments to recycle items. A recycling fee is included with your quarterly water/sewer bill to support the Recycling Program and the Annual Spring Clean-Up. The Selinsgrove Borough Recycling program and its equipment are partially funded by PA DEP ACT 101-902 and 904 recycling grants. We encourage all Selinsgrove Borough residents to fully utilize these services.
URL:https://selinsgrove.org/events/compost-site-open-730am-300pm-2/2026-04-21/
CATEGORIES:Services
END:VEVENT
END:VCALENDAR